BEGIN:VCALENDAR
VERSION:2.0
PRODID:-//De Riz Prosecco - Cantina in Conegliano Valdobbiadene - ECPv6.15.11//NONSGML v1.0//EN
CALSCALE:GREGORIAN
METHOD:PUBLISH
X-WR-CALNAME:De Riz Prosecco - Cantina in Conegliano Valdobbiadene
X-ORIGINAL-URL:https://proseccoderiz.it
X-WR-CALDESC:Eventi per De Riz Prosecco - Cantina in Conegliano Valdobbiadene
REFRESH-INTERVAL;VALUE=DURATION:PT1H
X-Robots-Tag:noindex
X-PUBLISHED-TTL:PT1H
BEGIN:VTIMEZONE
TZID:Europe/Rome
BEGIN:DAYLIGHT
TZOFFSETFROM:+0100
TZOFFSETTO:+0200
TZNAME:CEST
DTSTART:20240331T010000
END:DAYLIGHT
BEGIN:STANDARD
TZOFFSETFROM:+0200
TZOFFSETTO:+0100
TZNAME:CET
DTSTART:20241027T010000
END:STANDARD
BEGIN:DAYLIGHT
TZOFFSETFROM:+0100
TZOFFSETTO:+0200
TZNAME:CEST
DTSTART:20250330T010000
END:DAYLIGHT
BEGIN:STANDARD
TZOFFSETFROM:+0200
TZOFFSETTO:+0100
TZNAME:CET
DTSTART:20251026T010000
END:STANDARD
BEGIN:DAYLIGHT
TZOFFSETFROM:+0100
TZOFFSETTO:+0200
TZNAME:CEST
DTSTART:20260329T010000
END:DAYLIGHT
BEGIN:STANDARD
TZOFFSETFROM:+0200
TZOFFSETTO:+0100
TZNAME:CET
DTSTART:20261025T010000
END:STANDARD
END:VTIMEZONE
BEGIN:VEVENT
DTSTART;VALUE=DATE:20250511
DTEND;VALUE=DATE:20250512
DTSTAMP:20260422T113409
CREATED:20250418T173435Z
LAST-MODIFIED:20250418T173435Z
UID:12952-1746921600-1747007999@proseccoderiz.it
SUMMARY:VAL TRIPPERA EXPERIENCE
DESCRIPTION:Vi invitiamo ad una meravigliosa passeggiata nella Val Trippera\, luogo incantato vicino alla nostra cantina\, dove rimarrete sorpresi per la grande varietà di ambienti che attraversa. \nDopo il tour vi aspetta una degustazione di 2 vini in abbinamento ai prodotti tipici del territorio! \nInfo e prenotazioni
URL:https://proseccoderiz.it/evento/val-trippera-experience-2/
ATTACH;FMTTYPE=image/jpeg:https://proseccoderiz.it/wp-content/uploads/2025/04/A1A02671-Migliorato-NR-scaled.jpg
END:VEVENT
END:VCALENDAR